BEGIN:VCALENDAR
VERSION:2.0
PRODID:-//Santé mentale Québec – Bas-Saint-Laurent - ECPv5.9.1//NONSGML v1.0//EN
CALSCALE:GREGORIAN
METHOD:PUBLISH
X-WR-CALNAME:Santé mentale Québec – Bas-Saint-Laurent
X-ORIGINAL-URL:https://smq-bsl.org
X-WR-CALDESC:évènements pour Santé mentale Québec – Bas-Saint-Laurent
BEGIN:VTIMEZONE
TZID:America/New_York
BEGIN:DAYLIGHT
TZOFFSETFROM:-0500
TZOFFSETTO:-0400
TZNAME:EDT
DTSTART:20260308T070000
END:DAYLIGHT
BEGIN:STANDARD
TZOFFSETFROM:-0400
TZOFFSETTO:-0500
TZNAME:EST
DTSTART:20261101T060000
END:STANDARD
END:VTIMEZONE
BEGIN:VEVENT
DTSTART;TZID=America/New_York:20260115T130000
DTEND;TZID=America/New_York:20260115T143000
DTSTAMP:20260422T223638
CREATED:20251002T140952Z
LAST-MODIFIED:20251028T152108Z
UID:3987-1768482000-1768487400@smq-bsl.org
SUMMARY:Conférence Stress & Anxiété - Trois-Pistoles
DESCRIPTION:🌿 Conférence gratuite : Stress & anxiété – au service de l’humain 🌿 \nL’équipe de promotion de Santé mentale Québec Bas-Saint-Laurent vous invite à assister à sa conférence gratuite. \nEnsemble\, nous prendrons le temps de décortiquer les rouages du stress et de l’anxiété\, tout en explorant des stratégies concrètes pour les apaiser au quotidien. \nAucune inscription nécessaire – il suffit de vous présenter sur place au moment de l’évènement. \n📍 Bibliothèque Anne-Marie D’Amours\, Trois-Pistoles🗓️ 15 janvier 2026 à 13 h📞 Info : 418 723-6416\, poste 104
URL:https://smq-bsl.org/evenement/conference-stress-anxiete-trois-pistoles/
LOCATION:Bibliothèque Anne-Marie D’amours\, 145\, rue de l'Aréna\, Trois-Pistoles\, Québec\, G0l 4K0
ATTACH;FMTTYPE=image/png:https://smq-bsl.org/wp-content/uploads/2025/10/1-Trois-Pistoles-15-janvier-2026-e1761664558192.png
END:VEVENT
END:VCALENDAR